BEGIN:VCALENDAR
VERSION:2.0
PRODID:-//ServingHandz.com - ECPv6.9.0//NONSGML v1.0//EN
CALSCALE:GREGORIAN
METHOD:PUBLISH
X-WR-CALNAME:ServingHandz.com
X-ORIGINAL-URL:https://servinghandz.com
X-WR-CALDESC:Events for ServingHandz.com
REFRESH-INTERVAL;VALUE=DURATION:PT1H
X-Robots-Tag:noindex
X-PUBLISHED-TTL:PT1H
BEGIN:VTIMEZONE
TZID:America/Los_Angeles
BEGIN:DAYLIGHT
TZOFFSETFROM:-0800
TZOFFSETTO:-0700
TZNAME:PDT
DTSTART:20240310T100000
END:DAYLIGHT
BEGIN:STANDARD
TZOFFSETFROM:-0700
TZOFFSETTO:-0800
TZNAME:PST
DTSTART:20241103T090000
END:STANDARD
END:VTIMEZONE
BEGIN:VEVENT
DTSTART;TZID=America/Los_Angeles:20240211T090000
DTEND;TZID=America/Los_Angeles:20240211T170000
DTSTAMP:20260419T190104
CREATED:20240203T214435Z
LAST-MODIFIED:20240203T215054Z
UID:1217-1707642000-1707670800@servinghandz.com
SUMMARY:Flooring Project
DESCRIPTION:Flooring Project In Temple \n\n⁠Need 2 people in each room\, for 3 rooms\, so total of 6 volunteers needed.\nThe project will start at 9 am and end at 5 pm.\nVolunteers can come on shift from : 9 am to 12 pm\, 12 pm – 2pm & 2pm – 5pm.\n\nPlease sign-up by clicking here.
URL:https://servinghandz.com/event/flooring-project/
LOCATION:Prashanthi Nilayam\, 244 W Grant Line Road\, Tracy\, CA\, 95376\, United States
ORGANIZER;CN="Sai Harish Balamurugan":MAILTO:1073700@lammersvilleusd.net
END:VEVENT
BEGIN:VEVENT
DTSTART;TZID=America/Los_Angeles:20240203T100000
DTEND;TZID=America/Los_Angeles:20240203T130000
DTSTAMP:20260419T190104
CREATED:20240203T213106Z
LAST-MODIFIED:20240203T213106Z
UID:1208-1706954400-1706965200@servinghandz.com
SUMMARY:Temple Volunteering Activity
DESCRIPTION:Need volunteers to help cleanup\, do some repairs and build shelfs. Please sign-up for the volunteering by clicking here.
URL:https://servinghandz.com/event/temple-volunteering-activity/
LOCATION:Prashanthi Nilayam\, 244 W Grant Line Road\, Tracy\, CA\, 95376\, United States
ORGANIZER;CN="Sai Harish Balamurugan":MAILTO:1073700@lammersvilleusd.net
END:VEVENT
END:VCALENDAR